BEGIN:VCALENDAR
VERSION:2.0
PRODID:-//Radentscheid Schwerin - ECPv6.15.20//NONSGML v1.0//EN
CALSCALE:GREGORIAN
METHOD:PUBLISH
X-WR-CALNAME:Radentscheid Schwerin
X-ORIGINAL-URL:https://www.radentscheid-schwerin.de
X-WR-CALDESC:Veranstaltungen für Radentscheid Schwerin
REFRESH-INTERVAL;VALUE=DURATION:PT1H
X-Robots-Tag:noindex
X-PUBLISHED-TTL:PT1H
BEGIN:VTIMEZONE
TZID:Europe/Berlin
BEGIN:DAYLIGHT
TZOFFSETFROM:+0100
TZOFFSETTO:+0200
TZNAME:CEST
DTSTART:20250330T010000
END:DAYLIGHT
BEGIN:STANDARD
TZOFFSETFROM:+0200
TZOFFSETTO:+0100
TZNAME:CET
DTSTART:20251026T010000
END:STANDARD
BEGIN:DAYLIGHT
TZOFFSETFROM:+0100
TZOFFSETTO:+0200
TZNAME:CEST
DTSTART:20260329T010000
END:DAYLIGHT
BEGIN:STANDARD
TZOFFSETFROM:+0200
TZOFFSETTO:+0100
TZNAME:CET
DTSTART:20261025T010000
END:STANDARD
BEGIN:DAYLIGHT
TZOFFSETFROM:+0100
TZOFFSETTO:+0200
TZNAME:CEST
DTSTART:20270328T010000
END:DAYLIGHT
BEGIN:STANDARD
TZOFFSETFROM:+0200
TZOFFSETTO:+0100
TZNAME:CET
DTSTART:20271031T010000
END:STANDARD
END:VTIMEZONE
BEGIN:VEVENT
DTSTART;TZID=Europe/Berlin:20260312T180000
DTEND;TZID=Europe/Berlin:20260312T200000
DTSTAMP:20260420T031621
CREATED:20260116T150328Z
LAST-MODIFIED:20260126T092015Z
UID:10031-1773338400-1773345600@www.radentscheid-schwerin.de
SUMMARY:"Freie Gehwege" - Öffentliche Diskussion
DESCRIPTION:Zwei Drittel aller Wege in Schwerin werden im sogenannten Umweltverbund zurückgelegt – also zu Fuß\, mit Rad\, Bus oder Bahn. Der Kfz-Anteil macht nur noch ein Drittel aus. Aber an der Flächenverteilung in der Stadt ändert sich bisher nichts! Ein Beispiel dafür ist das geduldete oder oft sogar erlaubte Gehwegparken. \n\n\n\nRund 13 Prozent der Menschen in Schwerin leben mit einer dauerhaften Geh- oder Seheinschränkung. Dazu kommen ältere Menschen mit Rollator oder Eltern mit Kinderwagen. An vielen Stellen in Schwerin ist es nicht möglich\, zu zweit nebeneinander auf einem Gehweg zu gehen. Für Begegnungsverkehr wird es mitunter so eng\, dass man auf die Straße ausweichen muss. Wollen wir das eigentlich genau so haben? \n\n\n\nWas bedeutet für uns „Lebensqualität“ in Schwerin? \n\n\n\nÜber diese Frage möchten wir miteinander ins Gespräch kommen und laden zu einer öffentlichen Diskussion ein. Brauchen wir mehr Flächen für Fußgänger und Radfahrer? Oder brauchen wir mehr Parkplätze in Schwerin? Unser Ziel ist nicht die Einigkeit\, sondern der Austausch über unsere unterschiedlichen Erfahrungen und Bedürfnisse. \n\n\n\nWann:   Donnerstag\, den 12. März um 18 UhrWo:       Wichernsaal\, Apothekerstraße 48 (Eingang im Hof) \n\n\n\nWir freuen uns auf möglichst unterschiedliche Gesprächspartner und eine konstruktive\, sachliche Auseinandersetzung. Reden hilft!
URL:https://www.radentscheid-schwerin.de/termine/freie-gehwege-oeffentliche-diskussion/
LOCATION:Wichernsaal\, Apothekerstr. 48 (im Hof)\, Schwerin\, 19055\, Deutschland
ATTACH;FMTTYPE=image/jpeg:https://www.radentscheid-schwerin.de/wp-content/uploads/2026/01/2025-11-Schliemannstrasse.jpg
ORGANIZER;CN="Radentscheid Schwerin":MAILTO:kontakt@radentscheid-schwerin.de
END:VEVENT
END:VCALENDAR