BEGIN:VCALENDAR
VERSION:2.0
PRODID:-//Radentscheid Schwerin - ECPv6.15.20//NONSGML v1.0//EN
CALSCALE:GREGORIAN
METHOD:PUBLISH
X-WR-CALNAME:Radentscheid Schwerin
X-ORIGINAL-URL:https://www.radentscheid-schwerin.de
X-WR-CALDESC:Veranstaltungen für Radentscheid Schwerin
REFRESH-INTERVAL;VALUE=DURATION:PT1H
X-Robots-Tag:noindex
X-PUBLISHED-TTL:PT1H
BEGIN:VTIMEZONE
TZID:Europe/Berlin
BEGIN:DAYLIGHT
TZOFFSETFROM:+0100
TZOFFSETTO:+0200
TZNAME:CEST
DTSTART:20250330T010000
END:DAYLIGHT
BEGIN:STANDARD
TZOFFSETFROM:+0200
TZOFFSETTO:+0100
TZNAME:CET
DTSTART:20251026T010000
END:STANDARD
BEGIN:DAYLIGHT
TZOFFSETFROM:+0100
TZOFFSETTO:+0200
TZNAME:CEST
DTSTART:20260329T010000
END:DAYLIGHT
BEGIN:STANDARD
TZOFFSETFROM:+0200
TZOFFSETTO:+0100
TZNAME:CET
DTSTART:20261025T010000
END:STANDARD
BEGIN:DAYLIGHT
TZOFFSETFROM:+0100
TZOFFSETTO:+0200
TZNAME:CEST
DTSTART:20270328T010000
END:DAYLIGHT
BEGIN:STANDARD
TZOFFSETFROM:+0200
TZOFFSETTO:+0100
TZNAME:CET
DTSTART:20271031T010000
END:STANDARD
END:VTIMEZONE
BEGIN:VEVENT
DTSTART;TZID=Europe/Berlin:20260203T170000
DTEND;TZID=Europe/Berlin:20260203T180000
DTSTAMP:20260420T131543
CREATED:20241211T203522Z
LAST-MODIFIED:20260124T082214Z
UID:9081-1770138000-1770141600@www.radentscheid-schwerin.de
SUMMARY:Radentscheid-Treffen
DESCRIPTION:Wir treffen uns heute ausnahmsweise im Café Tisch und nur für eine Stunde! Jede:r ist willkommen\, wir freuen uns über neue Mitstreiter. Wenn Du teilnehmen möchtest\, schreibe uns eine Mail oder komm einfach dazu. Gemeinsam engagieren wir uns für ein fahrradfreundliches Schwerin!
URL:https://www.radentscheid-schwerin.de/termine/radentscheid-treffen-4-2/
LOCATION:Café Tisch\, Wittenburger Str. 16 a + b\, Schwerin\, 19053
CATEGORIES:Radentscheid-Treffen
ATTACH;FMTTYPE=image/jpeg:https://www.radentscheid-schwerin.de/wp-content/uploads/2023/11/Logo-mit-Slogan-links.jpg
ORGANIZER;CN="Radentscheid Schwerin":MAILTO:kontakt@radentscheid-schwerin.de
END:VEVENT
BEGIN:VEVENT
DTSTART;TZID=Europe/Berlin:20260204T190000
DTEND;TZID=Europe/Berlin:20260204T210000
DTSTAMP:20260420T131543
CREATED:20251211T210925Z
LAST-MODIFIED:20260116T145047Z
UID:9086-1770231600-1770238800@www.radentscheid-schwerin.de
SUMMARY:AG Klima BUND Schwerin
DESCRIPTION:Der Radentscheid Schwerin fordert mehr Tempo beim Ausbau der Geh- und Radwege. Zwei Drittel der Wege legen die Schweriner als Fußgänger\, Radfahrer und ÖPNV-Nutzer zurück. Nur ein Drittel der Menschen nutzt dafür noch das Auto. Trotzdem sind viele öffentliche Flächen mit privaten Autos zugestellt. Wir wollen eine Umverteilung dieser Verkehrsflächen zugunsten einer nachhaltigen Mobilität. \n\n\n\nKommt vorbei\, bringt Euch ein\, es geht nur gemeinsam! Jeden 1. Mittwoch im Monat! \n\n\n\nDas Ziel der Klima AG ist es\, gemeinsam für Tempo zu sorgen. Wir wollen prüfen\, welche Maßnahmen jetzt am meisten bringen und wie wir die jeweiligen Akteure wie Stadtverwaltung\, städtische Betriebe und Unternehmen zum Handeln für das Gemeinwohl bewegen können. Die Stadtpolitik hat ihre eigenen Ziele nicht ambitioniert verfolgt und nun auch noch um zehn Jahre verschoben. Wir setzen uns trotz der schwierigeren Bedingungen für eine stabile Umwelt und damit eine stabile Wirtschaft und ein gutes Leben für alle ein.
URL:https://www.radentscheid-schwerin.de/termine/klima-ag-2/
LOCATION:BUND Schwerin\, Wismarsche Straße 152\, Schwerin\, 19055\, Germany
CATEGORIES:Treffen
ATTACH;FMTTYPE=image/jpeg:https://www.radentscheid-schwerin.de/wp-content/uploads/2025/04/Logo-AG-Klima-2.jpg
END:VEVENT
BEGIN:VEVENT
DTSTART;TZID=Europe/Berlin:20260217T170000
DTEND;TZID=Europe/Berlin:20260217T190000
DTSTAMP:20260420T131543
CREATED:20241211T203631Z
LAST-MODIFIED:20251212T081752Z
UID:9083-1771347600-1771354800@www.radentscheid-schwerin.de
SUMMARY:Radentscheid-Treffen
DESCRIPTION:Wir treffen uns regelmäßig im Stadthaus Am Packhof 4-6. Jede:r ist willkommen\, wir freuen uns über neue Mitstreiter. Wenn Du teilnehmen möchtest\, schreibe uns eine Mail oder komm einfach dazu. Gemeinsam engagieren wir uns für ein fahrradfreundliches Schwerin!
URL:https://www.radentscheid-schwerin.de/termine/radentscheid-treffen-5-2/
LOCATION:Stadthaus Schwerin\, Am Packhof 4-6\, Schwerin\, 19055\, Deutschland
CATEGORIES:Radentscheid-Treffen
ATTACH;FMTTYPE=image/jpeg:https://www.radentscheid-schwerin.de/wp-content/uploads/2023/11/Logo-mit-Slogan-links.jpg
ORGANIZER;CN="Radentscheid Schwerin":MAILTO:kontakt@radentscheid-schwerin.de
END:VEVENT
END:VCALENDAR